Workbook

Sheet Сводная информация по заказу
B1: Сводная информация по заказу
A2: Заказ номер | B2: ORD-012-345-657
A3: Стоимость заказа | B3: =B4 + B5 -> 573022
A4: Стоимость работы | B4: {=SUM(Спецификация!E2:E6 * Спецификация!F2:F6)} -> 301300
A5: Стоимость материала | B5: {=SUM(Спецификация!E2:E6 * Спецификация!G2:G6)} -> 271722
A6: Имя | B6: Семен Карпов
A7: Номер телефона | B7: +7 985 133 09 50
A8: Электронная почта | B8: sk@any-cut.pro
A9: Комментарий | B9: Демонстрационный отчет

Sheet Спецификация
A1: № | B1: Изделие | C1: Материал | D1: Толщина | E1: Кол-во | F1: Цена за работу одной детали | G1: Цена за материал одной детали | H1: Цена за одну деталь | I1: Цена за комплект | J1: Ссылка на файл
A2: 1 | B2: Деталь №01.dxf | C2: 12Х18Н9Т | D2: 5 | E2: 1000 | F2: =ROUND('Параметры стоимости работы'!I2, 2) -> 51.5 | G2: =ROUND(37.6 * Цены!D2 / 250, 2) -> 37.6 | H2: =F2 + G2 -> 89.1 | I2: =H2 * E2 -> 89100 | J2: -
A3: 2 | B3: Деталь №02.dxf | C3: 12Х18Н9Т | D3: 5 | E3: 1000 | F3: =ROUND('Параметры стоимости работы'!I3, 2) -> 100.5 | G3: =ROUND(137.16 * Цены!D2 / 250, 2) -> 137.16 | H3: =F3 + G3 -> 237.66 | I3: =H3 * E3 -> 237660 | J3: -
A4: 3 | B4: Деталь №03.dxf | C4: Ст08 | D4: 3 | E4: 2000 | F4: =ROUND('Параметры стоимости работы'!I4, 2) -> 48.75 | G4: =ROUND(18.67 * Цены!D4 / 55, 2) -> 18.67 | H4: =F4 + G4 -> 67.42 | I4: =H4 * E4 -> 134840 | J4: -
A5: 4 | B5: Деталь №04.dxf | C5: Ст08 | D5: 1 | E5: 200 | F5: =ROUND('Параметры стоимости работы'!I5, 2) -> 143.75 | G5: =ROUND(144.87 * Цены!D3 / 55, 2) -> 144.87 | H5: =F5 + G5 -> 288.62 | I5: =H5 * E5 -> 57724 | J5: -
A6: 5 | B6: Деталь №05.dxf | C6: Ст08 | D6: 1 | E6: 200 | F6: =ROUND('Параметры стоимости работы'!I6, 2) -> 115.25 | G6: =ROUND(153.24 * Цены!D3 / 55, 2) -> 153.24 | H6: =F6 + G6 -> 268.49 | I6: =H6 * E6 -> 53698 | J6: -

Sheet Цены
A1: № | B1: Материал | C1: Толщина | D1: Стоимость 1 кг | E1: Стоимость реза (1м) | F1: Цена врезки
A2: 1 | B2: 12Х18Н9Т | C2: 5 | D2: 250 | E2: 100 | F2: 4.5
A3: 2 | B3: Ст08 | C3: 1 | D3: 55 | E3: 25 | F3: 0.75
A4: 3 | B4: Ст08 | C4: 3 | D4: 55 | E4: 40 | F4: 1.25

Sheet Листы к закупке
A1: № | B1: Материал | C1: Толщина | D1: Ширина листа | E1: Длина листа | F1: Кол-во
A2: 1 | B2: 12Х18Н9Т | C2: 5 | D2: 1000 | E2: 2000 | F2: 7
A3: 2 | B3: 12Х18Н9Т | C3: 5 | D3: 1250 | E3: 2500 | F3: 2
A4: 3 | B4: Ст08 | C4: 1 | D4: 1500 | E4: 3000 | F4: 31
A5: 4 | B5: Ст08 | C5: 3 | D5: 1250 | E5: 2500 | F5: 1
A6: 5 | B6: Ст08 | C6: 3 | D6: 1500 | E6: 3000 | F6: 6

Sheet Используемые листы
A1: № | B1: Материал | C1: Толщина | D1: Ширина листа | E1: Длина листа | F1: Кол-во | G1: Используемая ширина листа | H1: Используема длина листа | I1: Деловой остаток %
A2: 1 | B2: 12Х18Н9Т | C2: 5 | D2: 1250 | E2: 2500 | F2: 1 | G2: 1200 | H2: 200 | I2: 0.88
A3: 2 | B3: 12Х18Н9Т | C3: 5 | D3: 1000 | E3: 2000 | F3: 7 | G3: 1000 | H3: 2000 | I3: 0
A4: 3 | B4: 12Х18Н9Т | C4: 5 | D4: 1250 | E4: 2500 | F4: 1 | G4: 1200 | H4: 2500 | I4: 0
A5: 4 | B5: Ст08 | C5: 1 | D5: 1500 | E5: 3000 | F5: 1 | G5: 1500 | H5: 2000 | I5: 0.31
A6: 5 | B6: Ст08 | C6: 1 | D6: 1500 | E6: 3000 | F6: 30 | G6: 1500 | H6: 3000 | I6: 0
A7: 6 | B7: Ст08 | C7: 3 | D7: 1250 | E7: 2500 | F7: 1 | G7: 1200 | H7: 1400 | I7: 0.41
A8: 7 | B8: Ст08 | C8: 3 | D8: 1500 | E8: 3000 | F8: 6 | G8: 1500 | H8: 3000 | I8: 0

Sheet КИМ
A1: № | B1: Материал | C1: Толщина | D1: Кол-во | E1: КИМ
A2: 1 | B2: 12Х18Н9Т | C2: 5 | D2: 9 | E2: 0.73
A3: 2 | B3: Ст08 | C3: 1 | D3: 31 | E3: 0.75
A4: 3 | B4: Ст08 | C4: 3 | D4: 7 | E4: 0.82
A6: КИМ (коэффициент использования материала) показывает, насколько хорошо были уложены детали на лист
A7: Если КИМ больше 60-70%, то детали уложены плотно и неделового отхода будет мало
A8: В случае низкого показателя КИМ, вы можете отправить заказ на sk@any-cut.pro и мы бесплатно сделаем пересчёт заказа

Sheet Параметры стоимости работы
A1: № | B1: Изделие | C1: Материал | D1: Толщина | E1: Длина резки | F1: Стоимость реза (1м) | G1: Кол-во врезок | H1: Цена врезки | I1: Цена за работу одной детали
A2: 1 | B2: Деталь №01.dxf | C2: 12Х18Н9Т | D2: 5 | E2: 0.29 | F2: =Цены!E2 -> 100 | G2: 5 | H2: =Цены!F2 -> 4.5 | I2: =ROUND(E2 * F2 + G2 * H2, 2) -> 51.5
A3: 2 | B3: Деталь №02.dxf | C3: 12Х18Н9Т | D3: 5 | E3: 0.69 | F3: =Цены!E2 -> 100 | G3: 7 | H3: =Цены!F2 -> 4.5 | I3: =ROUND(E3 * F3 + G3 * H3, 2) -> 100.5
A4: 3 | B4: Деталь №03.dxf | C4: Ст08 | D4: 3 | E4: 0.75 | F4: =Цены!E4 -> 40 | G4: 15 | H4: =Цены!F4 -> 1.25 | I4: =ROUND(E4 * F4 + G4 * H4, 2) -> 48.75
A5: 4 | B5: Деталь №04.dxf | C5: Ст08 | D5: 1 | E5: 4.79 | F5: =Цены!E3 -> 25 | G5: 32 | H5: =Цены!F3 -> 0.75 | I5: =ROUND(E5 * F5 + G5 * H5, 2) -> 143.75
A6: 5 | B6: Деталь №05.dxf | C6: Ст08 | D6: 1 | E6: 4.4 | F6: =Цены!E3 -> 25 | G6: 7 | H6: =Цены!F3 -> 0.75 | I6: =ROUND(E6 * F6 + G6 * H6, 2) -> 115.25
